BEGIN:VCALENDAR
VERSION:2.0
PRODID:-//CiviCRM//NONSGML CiviEvent iCal//EN
X-WR-TIMEZONE:America/New_York
METHOD:PUBLISH
BEGIN:VTIMEZONE
TZID:America/New_York
BEGIN:DAYLIGHT
TZOFFSETFROM:-0400
TZOFFSETTO:-0400
TZNAME:EDT
DTSTART:20260429T210000
END:DAYLIGHT
END:VTIMEZONE
BEGIN:VEVENT
UID:CiviCRM_EventID_676_7f241ba639b4b33d515003f531510223@ibewlocal488.org
SUMMARY:Continuing Education for Electricians
X-ALT-DESC;FMTTYPE=text/html:<!DOCTYPE HTML PUBLIC
  "-//W3C//DTD HTML 3.2//EN"><html><body><p>All cla
 sses meet the minimum requirements set by the Comm
 issioner and will be filled on a first come first 
 serve basis.&nbsp\; The Local 488 JATC reserves th
 e right to cancel any scheduled seminar due to lac
 k of enrollment.&nbsp\; All classes will be held a
 t\, Local Union 488 Union Hall\, 721 Main Street M
 onroe CT 06468.</p>\n \n <p>The State of Connectic
 ut&nbsp\;<u><em><strong>REQUIRES</strong></em></u>
 &nbsp\;all participants to bring a copy of the 202
 3 NEC to class.&nbsp\; You will need to have a cop
 y to attend class.&nbsp\;&nbsp\;2023 NEC&nbsp\;BOO
 KS FOR SALE&nbsp\; $150.</p>\n \n <p>All class can
 celations will be announced on STAR 99.9FM and on 
 our web-site&nbsp\;<a href="http://www.ibewlocal48
 8.org/">www.ibewlocal488.org</a>&nbsp\;as soon as 
 possible.<br />\n <br />\n Complete form below and
  if applicable\, mail check payable to Local 488 J
 ATC to 721 Main Street Monroe CT 06468</p>\n \n <p
 ><u><strong>NO SHOWS WILL PAY A $20 FEE TO RE-REGI
 STER</strong></u></p></body></html>
DESCRIPTION:All classes meet the minimum requirements set by t
 he Commissioner and will be filled on a first come
  first serve basis.  The Local 488 JATC reserves t
 he right to cancel any scheduled seminar due to la
 ck of enrollment.  All classes will be held at\, L
 ocal Union 488 Union Hall\, 721 Main Street Monroe
  CT 06468.\n \n \n \n The State of Connecticut REQ
 UIRES all participants to bring a copy of the 2023
  NEC to class.  You will need to have a copy to at
 tend class.  2023 NEC BOOKS FOR SALE  $150.\n \n \
 n \n All class cancelations will be announced on S
 TAR 99.9FM and on our web-site www.ibewlocal488.or
 g (http://www.ibewlocal488.org/) as soon as possib
 le.\n \n \n \n Complete form below and if applicab
 le\, mail check payable to Local 488 JATC to 721 M
 ain Street Monroe CT 06468\n \n \n \n NO SHOWS WIL
 L PAY A $20 FEE TO RE-REGISTER\n \n 
CATEGORIES:Training
CALSCALE:GREGORIAN
DTSTAMP;TZID=America/New_York:20260429T170000
DTSTART;TZID=America/New_York:20260429T170000
DTEND;TZID=America/New_York:20260429T210000
LOCATION:721 MAIN ST\n MONROE\, CT 06468-2810\n United Stat
 es\n 
URL:https://ibewlocal488.org/civicrm/event/info?reset=1&id=676
END:VEVENT
END:VCALENDAR
